BEGIN:VCALENDAR
VERSION:2.0
PRODID:-//Vocal Chain - ECPv6.15.20//NONSGML v1.0//EN
CALSCALE:GREGORIAN
METHOD:PUBLISH
X-WR-CALNAME:Vocal Chain
X-ORIGINAL-URL:https://vocalchain.nl
X-WR-CALDESC:Evenementen voor Vocal Chain
REFRESH-INTERVAL;VALUE=DURATION:PT1H
X-Robots-Tag:noindex
X-PUBLISHED-TTL:PT1H
BEGIN:VTIMEZONE
TZID:UTC
BEGIN:STANDARD
TZOFFSETFROM:+0000
TZOFFSETTO:+0000
TZNAME:UTC
DTSTART:20230101T000000
END:STANDARD
END:VTIMEZONE
BEGIN:VEVENT
DTSTART;TZID=UTC:20241208T153000
DTEND;TZID=UTC:20241208T173000
DTSTAMP:20260422T093423
CREATED:20241027T102926Z
LAST-MODIFIED:20241101T195841Z
UID:172-1733671800-1733679000@vocalchain.nl
SUMMARY:Zondagmiddag kerstconcert
DESCRIPTION:Tickets 15 Euro (aan de deur) incl. consumptie. \nVocal Chain is uitgenodigd om een concert te geven door de Culturele Commissie d’Alde Wite van de Protestantse Gemeente Dronrijp e.o. We zingen een combinatie van regulier repertoire en kerstnummers om alvast in de stemming te komen voor de feestdagen! \nZaal open om 15:00 uur.
URL:https://vocalchain.nl/event/zondagmiddag-kerstconcert/
LOCATION:Salviuskerk\, Tsjerkebuorren 1\, Dronrijp\, 9035 BA\, Netherlands
CATEGORIES:Agenda
END:VEVENT
END:VCALENDAR