BEGIN:VCALENDAR
VERSION:2.0
PRODID:-//Vocal Chain - ECPv6.15.20//NONSGML v1.0//EN
CALSCALE:GREGORIAN
METHOD:PUBLISH
X-ORIGINAL-URL:https://vocalchain.nl
X-WR-CALDESC:Evenementen voor Vocal Chain
REFRESH-INTERVAL;VALUE=DURATION:PT1H
X-Robots-Tag:noindex
X-PUBLISHED-TTL:PT1H
BEGIN:VTIMEZONE
TZID:UTC
BEGIN:STANDARD
TZOFFSETFROM:+0000
TZOFFSETTO:+0000
TZNAME:UTC
DTSTART:20230101T000000
END:STANDARD
END:VTIMEZONE
BEGIN:VEVENT
DTSTART;TZID=UTC:20241215T150000
DTEND;TZID=UTC:20241215T170000
DTSTAMP:20260422T093033
CREATED:20241027T105910Z
LAST-MODIFIED:20241106T094214Z
UID:182-1734274800-1734282000@vocalchain.nl
SUMMARY:Vocal Chain Kerstconcert ft. Kaspar
DESCRIPTION:Kaarten in de voorverkoop: € 15\,-  incl. consumptie (aan de deur €17\,50): \nOm kaarten te bestellen: ga naar de ticketpagina van Milûk\, of:\n\nMaak het totaalbedrag (per kaart € 15\,-) over naar IBAN NL29 TRIO 0786 7065 70 t.n.v. Vocal Chain. O.v.v. Naam en “tickets kerstconcert”.\nStuur via de contactpagina een vermelding van je reservering en betaling. Met de betaling is je reservering definitief.\n\n  \nNa afloop is er een borrel en snert!  \nHet eigen kerstconcert van Vocal Chain\, waarin het kerstrepertoire in intieme kerstsfeer ten gehore zal worden gebracht. \nm.m.v. Kaspar en strijkkwartet! \nMet zijn Friese roots is Kaspar lekker op weg om heel Nederland te veroveren met zijn veelzijdigheid als muzikant. Bij Radio 5 werd zijn eerste album ‘This is why’ meteen helemaal gedraaid vorig jaar\, in Leeuwarden was hij dit jaar ambassadeur van de vrijheid voor Bevrijdingsfestival Fryslân en op 9 januari 2025 staat een show in Paradiso Amsterdam gepland.  \nKaspar speelt het liefst letterlijk tússen zijn publiek. Je kunt van heel dichtbij popmuziek met symfonische invloeden verwachten\, waarbij deze zanger en pianovirtuoos zich elastisch door zijn eigen kwetsbaarheid beweegt. Kaspar neemt voor het Vocal Chain Kerstconcert een strijkkwartet mee\, bestaande uit Isabelle Doodhagen\, Marleen Veldstra en Irma Haverkamp op viool\, en Esther de Boer op cello. \nMeer weten over Kaspar? Kijk op https://kaspar.nu/ \nZaal opent om 14:30 uur. \n 
URL:https://vocalchain.nl/event/vocal-chain-kerstconcert/
LOCATION:Milûk\, Midlumerlaan 24\, Harlingen\, 8861JL\, Netherlands
CATEGORIES:Agenda
ATTACH;FMTTYPE=image/jpeg:https://vocalchain.nl/wp-content/uploads/2024/10/Poster-kerstconcert-e1730555429876.jpeg
END:VEVENT
END:VCALENDAR