BEGIN:VCALENDAR
VERSION:2.0
PRODID:-//Vocal Chain - ECPv6.15.20//NONSGML v1.0//EN
CALSCALE:GREGORIAN
METHOD:PUBLISH
X-ORIGINAL-URL:https://vocalchain.nl
X-WR-CALDESC:Evenementen voor Vocal Chain
REFRESH-INTERVAL;VALUE=DURATION:PT1H
X-Robots-Tag:noindex
X-PUBLISHED-TTL:PT1H
BEGIN:VTIMEZONE
TZID:UTC
BEGIN:STANDARD
TZOFFSETFROM:+0000
TZOFFSETTO:+0000
TZNAME:UTC
DTSTART:20240101T000000
END:STANDARD
END:VTIMEZONE
BEGIN:VEVENT
DTSTART;VALUE=DATE:20251213
DTEND;VALUE=DATE:20251214
DTSTAMP:20260421T160746
CREATED:20250924T193616Z
LAST-MODIFIED:20250924T193616Z
UID:384-1765584000-1765670399@vocalchain.nl
SUMMARY:Zoutsloter Kerstmarkt
DESCRIPTION:Meer info over waar en hoe laat volgt
URL:https://vocalchain.nl/event/zoutsloter-kerstmarkt/
LOCATION:Harlingen\, Zoutsloot\, Harlingen\, Netherlands
CATEGORIES:Agenda
END:VEVENT
END:VCALENDAR