BEGIN:VCALENDAR
VERSION:2.0
PRODID:-//Vocal Chain - ECPv6.15.20//NONSGML v1.0//EN
CALSCALE:GREGORIAN
METHOD:PUBLISH
X-ORIGINAL-URL:https://vocalchain.nl
X-WR-CALDESC:Evenementen voor Vocal Chain
REFRESH-INTERVAL;VALUE=DURATION:PT1H
X-Robots-Tag:noindex
X-PUBLISHED-TTL:PT1H
BEGIN:VTIMEZONE
TZID:UTC
BEGIN:STANDARD
TZOFFSETFROM:+0000
TZOFFSETTO:+0000
TZNAME:UTC
DTSTART:20240101T000000
END:STANDARD
END:VTIMEZONE
BEGIN:VEVENT
DTSTART;TZID=UTC:20251221T153000
DTEND;TZID=UTC:20251221T170000
DTSTAMP:20260421T160838
CREATED:20251208T173248Z
LAST-MODIFIED:20251208T173248Z
UID:389-1766331000-1766336400@vocalchain.nl
SUMMARY:Kerstconcert
DESCRIPTION:Een sfeervol kerstconcert door Vocal Chain in de Stevenskerk van Skingen. \nToegang is gratis\, een vrijwillige bijdrage wordt op prijs gesteld door de organisatie
URL:https://vocalchain.nl/event/kerstconcert/
LOCATION:Skingen\, Buorren 29\, Skingen\, 8816 HV
CATEGORIES:Agenda
END:VEVENT
END:VCALENDAR