BEGIN:VCALENDAR
VERSION:2.0
PRODID:-//Vocal Chain - ECPv6.15.20//NONSGML v1.0//EN
CALSCALE:GREGORIAN
METHOD:PUBLISH
X-ORIGINAL-URL:https://vocalchain.nl
X-WR-CALDESC:Evenementen voor Vocal Chain
REFRESH-INTERVAL;VALUE=DURATION:PT1H
X-Robots-Tag:noindex
X-PUBLISHED-TTL:PT1H
BEGIN:VTIMEZONE
TZID:UTC
BEGIN:STANDARD
TZOFFSETFROM:+0000
TZOFFSETTO:+0000
TZNAME:UTC
DTSTART:20230101T000000
END:STANDARD
END:VTIMEZONE
BEGIN:VEVENT
DTSTART;TZID=UTC:20241012T200000
DTEND;TZID=UTC:20241012T220000
DTSTAMP:20260422T105545
CREATED:20240820T101206Z
LAST-MODIFIED:20240820T101936Z
UID:141-1728763200-1728770400@vocalchain.nl
SUMMARY:Concert met Sânman en Sikke
DESCRIPTION:Sânman en Sikke is een 8-koppige mannengroep die zich laat inspireren door diverse muziekstijlen. In 2024 vieren zij hun 30-jarig bestaan met onder andere dit concert. Na een eerdere geslaagde samenwerking in het jubileumjaar van Vocal Chain in 2022\, is het nu de beurt aan Vocal Chain om een bijdrage te leveren aan dit feestelijke concert van Sânman en Sikke.
URL:https://vocalchain.nl/event/concert-met-sanman-en-sikke/
LOCATION:De Fermanje\, Vermaningsstrjitte 3\, Berltsum\, Friesland\, 9041BR\, Nederland
CATEGORIES:Agenda
END:VEVENT
END:VCALENDAR